BEGIN:VCALENDAR
VERSION:2.0
PRODID:-//Odesa IT Family - ECPv6.13.2.1//NONSGML v1.0//EN
CALSCALE:GREGORIAN
METHOD:PUBLISH
X-ORIGINAL-URL:https://it-family.od.ua/en
X-WR-CALDESC:Events for Odesa IT Family
REFRESH-INTERVAL;VALUE=DURATION:PT1H
X-Robots-Tag:noindex
X-PUBLISHED-TTL:PT1H
BEGIN:VTIMEZONE
TZID:UTC
BEGIN:STANDARD
TZOFFSETFROM:+0000
TZOFFSETTO:+0000
TZNAME:UTC
DTSTART:20250101T000000
END:STANDARD
END:VTIMEZONE
BEGIN:VEVENT
DTSTART;TZID=UTC:20250716T133000
DTEND;TZID=UTC:20250716T150000
DTSTAMP:20260423T093631
CREATED:20250703T055136Z
LAST-MODIFIED:20250703T055136Z
UID:10000005-1752672600-1752678000@it-family.od.ua
SUMMARY:[:en]How to read a person's face in 5 minutes?[:ua]Як читати людину по обличчю за 5 хвилин?[:]
DESCRIPTION:🎯 How to read a person’s face in 5 minutes? \nIs it possible to identify innate talents\, behavioral patterns\, and risks just by looking at facial features? \n💡 Yes. And we will show you how. \nWe invite you to a unique lecture from Odesa IT Family: \n👁‍🗨 What will be at the meeting: \n▪️ Basics of face reading (physiognomy) \n▪️ Portrait of the “Achievers” – how to find them in the team? \n▪️ Portrait of the “Anxious” – and how to avoid burnout \n▪️ Portrait of the “Rigid” – why you shouldn’t force changes \n▪️ Portrait of the “Adaptive” – and how he keeps everything afloat \n👤 Speaker: Alexander Ivanov – physiognomist \n⚡️ For 11 years he has been reading people’s faces \n⚡️ Helps to spot diamonds and recognize threats in time \n⚡️ Spoke on all Ukrainian TV channels \n⚡️ After his audit\, 2 top managers were replaced → in 2 months the plant’s turnover increased by $500\,000 \n📍When: 16.07.2025\, 13:30 \n📍Where: Online \n📍Registration: https://questionpro.com/t/AYlaxZ6hSY \nDo you want to learn to see a little more than meets the eye? \nThen come to the workshop.
URL:https://it-family.od.ua/en/event/yak-chytaty-lyudynu-po-oblychchyu-za-5-hvylyn/
END:VEVENT
END:VCALENDAR